BEGIN:VCALENDAR
PRODID:-//eluceo/ical//2.0/EN
VERSION:2.0
CALSCALE:GREGORIAN
BEGIN:VEVENT
UID:ae5348931ed7fc57bbb187c4e25747bd
DTSTAMP:20260421T084611Z
SUMMARY:AUSGEBUCHT Selbstbewusst Gespräche führen (GFK Impulstag)
URL:https://www.tecum.evang-tg.ch/de/tecumevents/alle-veranstaltungen/detai
 l/selbstbewusst-gespraeche-fuehren-gfk-impulstag
DTSTART:20260228T090000
DTEND:20260228T170000
LOCATION:Kartause Ittingen
END:VEVENT
END:VCALENDAR
